BEGIN:VCALENDAR
VERSION:2.0
PRODID:-//Himpunan Perawat Kamar Bedah Indonesia - ECPv5.3.1.1//NONSGML v1.0//EN
CALSCALE:GREGORIAN
METHOD:PUBLISH
X-WR-CALNAME:Himpunan Perawat Kamar Bedah Indonesia
X-ORIGINAL-URL:https://hipkabipusat.org
X-WR-CALDESC:Events for Himpunan Perawat Kamar Bedah Indonesia
BEGIN:VTIMEZONE
TZID:Europe/London
BEGIN:DAYLIGHT
TZOFFSETFROM:+0000
TZOFFSETTO:+0100
TZNAME:BST
DTSTART:20200329T010000
END:DAYLIGHT
BEGIN:STANDARD
TZOFFSETFROM:+0100
TZOFFSETTO:+0000
TZNAME:GMT
DTSTART:20201025T010000
END:STANDARD
END:VTIMEZONE
BEGIN:VEVENT
DTSTART;TZID=Europe/London:20200312T080000
DTEND;TZID=Europe/London:20200315T170000
DTSTAMP:20260424T124244
CREATED:20210203T152305Z
LAST-MODIFIED:20210203T152305Z
UID:1195-1584000000-1584291600@hipkabipusat.org
SUMMARY:Orthopaedic course for operating room
DESCRIPTION:Pelatihan “Orthopaedic course for operating room” Angkatan XIX yang dilaksanakan pada 12-15 Maret 2020 detail brosur dapat diakses pada halaman berikut ini. Berakreditasi PPNI \n 
URL:https://hipkabipusat.org/event/orthopaedic-course-for-operating-room/
LOCATION:The Acacia Hotel\, Jl. Kramat Raya No.73-81\, RT.1/RW.7\, Kramat\, Kec. Senen\, Kota Jakarta Pusat\, Daerah Khusus Ibukota Jakarta 10450\, DKI JAKARTA\, Jakarta Pusat\, 10450\, Indonesia
ATTACH;FMTTYPE=image/png:https://hipkabipusat.org/wp-content/uploads/2020/10/Picture3.png
ORGANIZER;CN="Pegurus%20Pusat%20HIPKABI":MAILTO:hipkabipusat@yahoo.com
END:VEVENT
END:VCALENDAR